BEGIN:VCALENDAR
VERSION:2.0
PRODID:-//Word Alive Church International - ECPv6.2.2//NONSGML v1.0//EN
CALSCALE:GREGORIAN
METHOD:PUBLISH
X-ORIGINAL-URL:https://thewordisalive.church
X-WR-CALDESC:Events for Word Alive Church International
REFRESH-INTERVAL;VALUE=DURATION:PT1H
X-Robots-Tag:noindex
X-PUBLISHED-TTL:PT1H
BEGIN:VTIMEZONE
TZID:UTC
BEGIN:STANDARD
TZOFFSETFROM:+0000
TZOFFSETTO:+0000
TZNAME:UTC
DTSTART:20200101T000000
END:STANDARD
END:VTIMEZONE
BEGIN:VEVENT
DTSTART;TZID=UTC:20210203T200000
DTEND;TZID=UTC:20210203T200000
DTSTAMP:20260421T181312
CREATED:20210125T060417Z
LAST-MODIFIED:20210125T060417Z
UID:604-1612382400-1612382400@thewordisalive.church
SUMMARY:Bible Study
DESCRIPTION:
URL:https://thewordisalive.church/event/bible-study-4/
CATEGORIES:Bible Study
END:VEVENT
BEGIN:VEVENT
DTSTART;TZID=UTC:20210127T203000
DTEND;TZID=UTC:20210127T203000
DTSTAMP:20260421T181312
CREATED:20210125T055633Z
LAST-MODIFIED:20210125T055633Z
UID:588-1611779400-1611779400@thewordisalive.church
SUMMARY:Bible Study
DESCRIPTION:
URL:https://thewordisalive.church/event/bible-study-3/
CATEGORIES:Bible Study
END:VEVENT
BEGIN:VEVENT
DTSTART;TZID=UTC:20210106T200000
DTEND;TZID=UTC:20210106T200000
DTSTAMP:20260421T181312
CREATED:20201227T113102Z
LAST-MODIFIED:20201227T113102Z
UID:328-1609963200-1609963200@thewordisalive.church
SUMMARY:Bible Study
DESCRIPTION:
URL:https://thewordisalive.church/event/bible-study-2/
CATEGORIES:Bible Study
END:VEVENT
BEGIN:VEVENT
DTSTART;TZID=UTC:20201230T200000
DTEND;TZID=UTC:20201230T200000
DTSTAMP:20260421T181312
CREATED:20201227T112306Z
LAST-MODIFIED:20201227T112306Z
UID:316-1609358400-1609358400@thewordisalive.church
SUMMARY:Bible Study
DESCRIPTION:
URL:https://thewordisalive.church/event/bible-study/
CATEGORIES:Bible Study
END:VEVENT
END:VCALENDAR