BEGIN:VCALENDAR
VERSION:2.0
PRODID:-//Word Alive Church International - ECPv6.2.2//NONSGML v1.0//EN
CALSCALE:GREGORIAN
METHOD:PUBLISH
X-WR-CALNAME:Word Alive Church International
X-ORIGINAL-URL:https://thewordisalive.church
X-WR-CALDESC:Events for Word Alive Church International
REFRESH-INTERVAL;VALUE=DURATION:PT1H
X-Robots-Tag:noindex
X-PUBLISHED-TTL:PT1H
BEGIN:VTIMEZONE
TZID:UTC
BEGIN:STANDARD
TZOFFSETFROM:+0000
TZOFFSETTO:+0000
TZNAME:UTC
DTSTART:20200101T000000
END:STANDARD
END:VTIMEZONE
BEGIN:VEVENT
DTSTART;TZID=UTC:20210428T193000
DTEND;TZID=UTC:20210428T193000
DTSTAMP:20260423T135446
CREATED:20210224T071604Z
LAST-MODIFIED:20210224T071604Z
UID:784-1619638200-1619638200@thewordisalive.church
SUMMARY:Prayer
DESCRIPTION:
URL:https://thewordisalive.church/event/prayer-16/
CATEGORIES:Prayer
END:VEVENT
BEGIN:VEVENT
DTSTART;TZID=UTC:20210421T193000
DTEND;TZID=UTC:20210421T193000
DTSTAMP:20260423T135446
CREATED:20210224T071532Z
LAST-MODIFIED:20210224T071532Z
UID:782-1619033400-1619033400@thewordisalive.church
SUMMARY:Prayer
DESCRIPTION:
URL:https://thewordisalive.church/event/prayer-15/
CATEGORIES:Prayer
END:VEVENT
BEGIN:VEVENT
DTSTART;TZID=UTC:20210414T193000
DTEND;TZID=UTC:20210414T193000
DTSTAMP:20260423T135446
CREATED:20210224T071501Z
LAST-MODIFIED:20210224T071501Z
UID:780-1618428600-1618428600@thewordisalive.church
SUMMARY:Prayer
DESCRIPTION:
URL:https://thewordisalive.church/event/prayer-14/
CATEGORIES:Prayer
END:VEVENT
BEGIN:VEVENT
DTSTART;TZID=UTC:20210407T193000
DTEND;TZID=UTC:20210407T193000
DTSTAMP:20260423T135446
CREATED:20210224T071434Z
LAST-MODIFIED:20210224T071434Z
UID:778-1617823800-1617823800@thewordisalive.church
SUMMARY:Prayer
DESCRIPTION:
URL:https://thewordisalive.church/event/prayer-13/
CATEGORIES:Prayer
END:VEVENT
BEGIN:VEVENT
DTSTART;TZID=UTC:20210331T193000
DTEND;TZID=UTC:20210331T193000
DTSTAMP:20260423T135446
CREATED:20210224T071326Z
LAST-MODIFIED:20210224T071326Z
UID:776-1617219000-1617219000@thewordisalive.church
SUMMARY:Prayer
DESCRIPTION:
URL:https://thewordisalive.church/event/prayer-12/
CATEGORIES:Prayer
END:VEVENT
BEGIN:VEVENT
DTSTART;TZID=UTC:20210324T193000
DTEND;TZID=UTC:20210324T193000
DTSTAMP:20260423T135446
CREATED:20210224T071244Z
LAST-MODIFIED:20210224T071244Z
UID:774-1616614200-1616614200@thewordisalive.church
SUMMARY:Prayer
DESCRIPTION:
URL:https://thewordisalive.church/event/prayer-11/
CATEGORIES:Prayer
END:VEVENT
BEGIN:VEVENT
DTSTART;TZID=UTC:20210317T193000
DTEND;TZID=UTC:20210317T193000
DTSTAMP:20260423T135446
CREATED:20210224T071203Z
LAST-MODIFIED:20210224T071203Z
UID:772-1616009400-1616009400@thewordisalive.church
SUMMARY:Prayer
DESCRIPTION:
URL:https://thewordisalive.church/event/prayer-10/
CATEGORIES:Prayer
END:VEVENT
BEGIN:VEVENT
DTSTART;TZID=UTC:20210310T193000
DTEND;TZID=UTC:20210310T193000
DTSTAMP:20260423T135446
CREATED:20210224T071130Z
LAST-MODIFIED:20210224T071130Z
UID:770-1615404600-1615404600@thewordisalive.church
SUMMARY:Prayer
DESCRIPTION:
URL:https://thewordisalive.church/event/prayer-9/
CATEGORIES:Prayer
END:VEVENT
BEGIN:VEVENT
DTSTART;TZID=UTC:20210303T193000
DTEND;TZID=UTC:20210303T193000
DTSTAMP:20260423T135446
CREATED:20210224T071030Z
LAST-MODIFIED:20210224T071030Z
UID:768-1614799800-1614799800@thewordisalive.church
SUMMARY:Prayer
DESCRIPTION:
URL:https://thewordisalive.church/event/prayer-8/
CATEGORIES:Prayer
END:VEVENT
BEGIN:VEVENT
DTSTART;TZID=UTC:20210224T193000
DTEND;TZID=UTC:20210224T193000
DTSTAMP:20260423T135446
CREATED:20210125T060311Z
LAST-MODIFIED:20210125T060311Z
UID:602-1614195000-1614195000@thewordisalive.church
SUMMARY:Prayer
DESCRIPTION:
URL:https://thewordisalive.church/event/prayer-7/
CATEGORIES:Prayer
END:VEVENT
BEGIN:VEVENT
DTSTART;TZID=UTC:20210217T193000
DTEND;TZID=UTC:20210217T193000
DTSTAMP:20260423T135446
CREATED:20210125T060240Z
LAST-MODIFIED:20210125T060240Z
UID:600-1613590200-1613590200@thewordisalive.church
SUMMARY:Prayer
DESCRIPTION:
URL:https://thewordisalive.church/event/prayer-6/
CATEGORIES:Prayer
END:VEVENT
BEGIN:VEVENT
DTSTART;TZID=UTC:20210203T193000
DTEND;TZID=UTC:20210203T193000
DTSTAMP:20260423T135446
CREATED:20210125T060132Z
LAST-MODIFIED:20210125T060132Z
UID:596-1612380600-1612380600@thewordisalive.church
SUMMARY:Prayer
DESCRIPTION:
URL:https://thewordisalive.church/event/prayer-4/
CATEGORIES:Prayer
END:VEVENT
BEGIN:VEVENT
DTSTART;TZID=UTC:20210127T193000
DTEND;TZID=UTC:20210127T193000
DTSTAMP:20260423T135446
CREATED:20210125T055357Z
LAST-MODIFIED:20210125T055357Z
UID:586-1611775800-1611775800@thewordisalive.church
SUMMARY:Prayer
DESCRIPTION:
URL:https://thewordisalive.church/event/prayer-3/
CATEGORIES:Prayer
END:VEVENT
BEGIN:VEVENT
DTSTART;TZID=UTC:20210106T193000
DTEND;TZID=UTC:20210106T193000
DTSTAMP:20260423T135446
CREATED:20201227T113015Z
LAST-MODIFIED:20201227T113015Z
UID:326-1609961400-1609961400@thewordisalive.church
SUMMARY:Prayer
DESCRIPTION:
URL:https://thewordisalive.church/event/prayer-2/
CATEGORIES:Prayer
END:VEVENT
BEGIN:VEVENT
DTSTART;TZID=UTC:20201230T193000
DTEND;TZID=UTC:20201230T193000
DTSTAMP:20260423T135446
CREATED:20201227T112127Z
LAST-MODIFIED:20201227T112127Z
UID:314-1609356600-1609356600@thewordisalive.church
SUMMARY:Prayer
DESCRIPTION:
URL:https://thewordisalive.church/event/prayer/
CATEGORIES:Prayer
END:VEVENT
END:VCALENDAR